BEGIN:VCALENDAR
VERSION:2.0
PRODID:-//Northwest School of the Arts - ECPv5.16.4//NONSGML v1.0//EN
CALSCALE:GREGORIAN
METHOD:PUBLISH
X-WR-CALNAME:Northwest School of the Arts
X-ORIGINAL-URL:https://nwsota.org
X-WR-CALDESC:Events for Northwest School of the Arts
BEGIN:VTIMEZONE
TZID:America/New_York
BEGIN:DAYLIGHT
TZOFFSETFROM:-0500
TZOFFSETTO:-0400
TZNAME:EDT
DTSTART:20210314T070000
END:DAYLIGHT
BEGIN:STANDARD
TZOFFSETFROM:-0400
TZOFFSETTO:-0500
TZNAME:EST
DTSTART:20211107T060000
END:STANDARD
END:VTIMEZONE
BEGIN:VEVENT
DTSTART;TZID=America/New_York:20210811T140000
DTEND;TZID=America/New_York:20210811T160000
DTSTAMP:20260423T001132
CREATED:20210709T191819Z
LAST-MODIFIED:20210709T191819Z
UID:7598-1628690400-1628697600@nwsota.org
SUMMARY:School Supply Giveaway & K-8 Enrollment Event
DESCRIPTION:Summer is almost over & it’s time to get ready for the new school year at Northwest Academy’s School Supply Giveaway & K-8 Enrollment Event! Each student who RSVP’s to attend will receive a free bag of school supplies during the event (while supplies last!) Enjoy snow cones & music with the Northwest Academy staff while we gear up and get excited for the upcoming school year!\n\nProspective families will have the opportunity to tour our school and receive on the spot help with enrollment. \nRSVP Today! \n\nCurrent families\, if you haven’t yet completed the process\, please bring your Proof of Residency document to complete your re-enrollment and transportation request. \nProspective families who are interested in enrollment may expedite the registration process by coming prepared with the following:\nChild’s Birth Certificate\nProof of Residence\nParent ID (for primary\, custodial parent)\nImmunization Records\nFor more information about these documents\, please visit our Enrollment Resources page.
URL:https://nwsota.org/event/school-supply-giveaway-k-8-enrollment-event/
LOCATION:Northwest Academy\, 1441 W 116th street\, Cleveland\, OH\, 44102\, United States
CATEGORIES:Calendar Only,Prospective Families, Events, Home
GEO:41.4822414;-81.7670862
X-APPLE-STRUCTURED-LOCATION;VALUE=URI;X-ADDRESS=Northwest Academy 1441 W 116th street Cleveland OH 44102 United States;X-APPLE-RADIUS=500;X-TITLE=1441 W 116th street:geo:-81.7670862,41.4822414
END:VEVENT
END:VCALENDAR