BEGIN:VCALENDAR
VERSION:2.0
PRODID:-//Northwest School of the Arts - ECPv5.16.4//NONSGML v1.0//EN
CALSCALE:GREGORIAN
METHOD:PUBLISH
X-WR-CALNAME:Northwest School of the Arts
X-ORIGINAL-URL:https://nwsota.org
X-WR-CALDESC:Events for Northwest School of the Arts
BEGIN:VTIMEZONE
TZID:America/New_York
BEGIN:DAYLIGHT
TZOFFSETFROM:-0500
TZOFFSETTO:-0400
TZNAME:EDT
DTSTART:20240310T070000
END:DAYLIGHT
BEGIN:STANDARD
TZOFFSETFROM:-0400
TZOFFSETTO:-0500
TZNAME:EST
DTSTART:20241103T060000
END:STANDARD
END:VTIMEZONE
BEGIN:VEVENT
DTSTART;VALUE=DATE:20240523
DTEND;VALUE=DATE:20240524
DTSTAMP:20260422T153235
CREATED:20230605T185233Z
LAST-MODIFIED:20230724T161303Z
UID:10438-1716422400-1716508799@nwsota.org
SUMMARY:Last day of school
DESCRIPTION:
URL:https://nwsota.org/event/last-day-school-students-quarter-4-ends/
LOCATION:Northwest Academy\, 1441 W 116th street\, Cleveland\, OH\, 44102\, United States
CATEGORIES:Calendar Only
GEO:41.4822414;-81.7670862
X-APPLE-STRUCTURED-LOCATION;VALUE=URI;X-ADDRESS=Northwest Academy 1441 W 116th street Cleveland OH 44102 United States;X-APPLE-RADIUS=500;X-TITLE=1441 W 116th street:geo:-81.7670862,41.4822414
END:VEVENT
END:VCALENDAR