BEGIN:VCALENDAR
VERSION:2.0
PRODID:-//Northwest School of the Arts - ECPv5.16.4//NONSGML v1.0//EN
CALSCALE:GREGORIAN
METHOD:PUBLISH
X-WR-CALNAME:Northwest School of the Arts
X-ORIGINAL-URL:https://nwsota.org
X-WR-CALDESC:Events for Northwest School of the Arts
BEGIN:VTIMEZONE
TZID:America/New_York
BEGIN:DAYLIGHT
TZOFFSETFROM:-0500
TZOFFSETTO:-0400
TZNAME:EDT
DTSTART:20250309T070000
END:DAYLIGHT
BEGIN:STANDARD
TZOFFSETFROM:-0400
TZOFFSETTO:-0500
TZNAME:EST
DTSTART:20251102T060000
END:STANDARD
END:VTIMEZONE
BEGIN:VEVENT
DTSTART;TZID=America/New_York:20250918T073000
DTEND;TZID=America/New_York:20250918T103000
DTSTAMP:20260421T140705
CREATED:20250910T161653Z
LAST-MODIFIED:20250910T194415Z
UID:12416-1758180600-1758191400@nwsota.org
SUMMARY:Fathers Walk
DESCRIPTION:Join us for our annual Fathers Walk! This special morning is a chance for dads\, grandfathers\, uncles\, and all father ﬁgures to walk their children to school and start the day together. It’s a simple but powerful way to show support\, create memories\, and celebrate the important role you play in our students’ lives.  \nRSVP Today! nwsota.org/events
URL:https://nwsota.org/event/fathers-walk-2/
LOCATION:Northwest Academy\, 1441 W 116th street\, Cleveland\, OH\, 44102\, United States
CATEGORIES:Calendar Only,Prospective Families, Events, Home
GEO:41.4822414;-81.7670862
X-APPLE-STRUCTURED-LOCATION;VALUE=URI;X-ADDRESS=Northwest Academy 1441 W 116th street Cleveland OH 44102 United States;X-APPLE-RADIUS=500;X-TITLE=1441 W 116th street:geo:-81.7670862,41.4822414
END:VEVENT
END:VCALENDAR