BEGIN:VCALENDAR
VERSION:2.0
PRODID:-//Northwest School of the Arts - ECPv5.16.4//NONSGML v1.0//EN
CALSCALE:GREGORIAN
METHOD:PUBLISH
X-WR-CALNAME:Northwest School of the Arts
X-ORIGINAL-URL:https://nwsota.org
X-WR-CALDESC:Events for Northwest School of the Arts
BEGIN:VTIMEZONE
TZID:America/New_York
BEGIN:DAYLIGHT
TZOFFSETFROM:-0500
TZOFFSETTO:-0400
TZNAME:EDT
DTSTART:20210314T070000
END:DAYLIGHT
BEGIN:STANDARD
TZOFFSETFROM:-0400
TZOFFSETTO:-0500
TZNAME:EST
DTSTART:20211107T060000
END:STANDARD
END:VTIMEZONE
BEGIN:VEVENT
DTSTART;TZID=America/New_York:20210726T100000
DTEND;TZID=America/New_York:20210726T160000
DTSTAMP:20260422T155808
CREATED:20210719T202502Z
LAST-MODIFIED:20210719T202502Z
UID:7723-1627293600-1627315200@nwsota.org
SUMMARY:Family Day at the Zoo with Northwest Academy - Presented by Radio One
DESCRIPTION:Radio One and Northwest Academy invite you to Family Day at the Zoo! Admission to the Cleveland Zoo is FREE for families. Stop by our booth for additional fun & giveaways. \nRSVP today for more information!
URL:https://nwsota.org/event/family-day-at-the-zoo-with-northwest-academy-presented-by-radio-one/
LOCATION:Cleveland Zoo\, 3900 Wildlife Way\, Cleveland\, OH\, 44109\, United States
CATEGORIES:Calendar Only,Prospective Families, Events, Home
END:VEVENT
END:VCALENDAR