BEGIN:VCALENDAR
VERSION:2.0
PRODID:-//Northwest School of the Arts - ECPv5.16.4//NONSGML v1.0//EN
CALSCALE:GREGORIAN
METHOD:PUBLISH
X-WR-CALNAME:Northwest School of the Arts
X-ORIGINAL-URL:https://nwsota.org
X-WR-CALDESC:Events for Northwest School of the Arts
BEGIN:VTIMEZONE
TZID:America/New_York
BEGIN:DAYLIGHT
TZOFFSETFROM:-0500
TZOFFSETTO:-0400
TZNAME:EDT
DTSTART:20210314T070000
END:DAYLIGHT
BEGIN:STANDARD
TZOFFSETFROM:-0400
TZOFFSETTO:-0500
TZNAME:EST
DTSTART:20211107T060000
END:STANDARD
END:VTIMEZONE
BEGIN:VEVENT
DTSTART;TZID=America/New_York:20210808T120000
DTEND;TZID=America/New_York:20210808T180000
DTSTAMP:20260422T203000
CREATED:20210709T191344Z
LAST-MODIFIED:20210709T191344Z
UID:7592-1628424000-1628445600@nwsota.org
SUMMARY:Edgewater Sidewalk Fest (in the Northwest Academy Parking Lot)
DESCRIPTION:Northwest Academy is proud to be a part of the 2021 Edgewater Sidewalk Fest! Join us in the Northwest Academy parking lot for some family fun during the festival. Our building will be open for tours and our staff will be on site to help with enrollment for the 2021-22 school year! \nRSVP Today! \nCurrent families\, if you haven’t yet completed the process\, please bring your Proof of Residency document to complete your re-enrollment and transportation request. \nProspective families who are interested in enrollment may expedite the registration process by coming prepared with the following:\nChild’s Birth Certificate\nProof of Residence\nParent ID (for primary\, custodial parent)\nImmunization Records\nFor more information about these documents\, please visit our Enrollment Resources page.
URL:https://nwsota.org/event/edgewater-sidewalk-fest-northwest-academy-parking-lot/
LOCATION:Northwest Academy\, 1441 W 116th street\, Cleveland\, OH\, 44102\, United States
CATEGORIES:Calendar Only,Prospective Families, Events, Home
GEO:41.4822414;-81.7670862
X-APPLE-STRUCTURED-LOCATION;VALUE=URI;X-ADDRESS=Northwest Academy 1441 W 116th street Cleveland OH 44102 United States;X-APPLE-RADIUS=500;X-TITLE=1441 W 116th street:geo:-81.7670862,41.4822414
END:VEVENT
END:VCALENDAR