BEGIN:VCALENDAR
VERSION:2.0
PRODID:-//Northwest School of the Arts - ECPv5.16.4//NONSGML v1.0//EN
CALSCALE:GREGORIAN
METHOD:PUBLISH
X-WR-CALNAME:Northwest School of the Arts
X-ORIGINAL-URL:https://nwsota.org
X-WR-CALDESC:Events for Northwest School of the Arts
BEGIN:VTIMEZONE
TZID:America/New_York
BEGIN:DAYLIGHT
TZOFFSETFROM:-0500
TZOFFSETTO:-0400
TZNAME:EDT
DTSTART:20210314T070000
END:DAYLIGHT
BEGIN:STANDARD
TZOFFSETFROM:-0400
TZOFFSETTO:-0500
TZNAME:EST
DTSTART:20211107T060000
END:STANDARD
END:VTIMEZONE
BEGIN:VEVENT
DTSTART;TZID=America/New_York:20210602T080000
DTEND;TZID=America/New_York:20210602T130000
DTSTAMP:20260423T022134
CREATED:20210511T150527Z
LAST-MODIFIED:20210511T150527Z
UID:7002-1622620800-1622638800@nwsota.org
SUMMARY:Chrome Book Returns (Grades 5-8)
DESCRIPTION:Chromebooks need to be returned to Northwest Academy from all virtual scholars and families during the designated times. Please make sure you also bringing the charging cord. A computer technician will be on site to collect the chrome books and chargers. \nKindergarten to Grade 4:\nJune 1\, 8am-1pm in the Northwest Academy Cafeteria \nGrades 5-8:\nJune 2\, 8am-1pm in the Northwest Academy Cafeteria \nIf you have any questions\, please contact the Main Office at (216)-226-6800.
URL:https://nwsota.org/event/chrome-book-returns-grades-5-8/
LOCATION:Northwest Academy\, 1441 W 116th street\, Cleveland\, OH\, 44102\, United States
CATEGORIES:Calendar Only
GEO:41.4822414;-81.7670862
X-APPLE-STRUCTURED-LOCATION;VALUE=URI;X-ADDRESS=Northwest Academy 1441 W 116th street Cleveland OH 44102 United States;X-APPLE-RADIUS=500;X-TITLE=1441 W 116th street:geo:-81.7670862,41.4822414
END:VEVENT
END:VCALENDAR