BEGIN:VCALENDAR
VERSION:2.0
PRODID:-//Northwest School of the Arts - ECPv5.16.4//NONSGML v1.0//EN
CALSCALE:GREGORIAN
METHOD:PUBLISH
X-WR-CALNAME:Northwest School of the Arts
X-ORIGINAL-URL:https://nwsota.org
X-WR-CALDESC:Events for Northwest School of the Arts
BEGIN:VTIMEZONE
TZID:America/New_York
BEGIN:DAYLIGHT
TZOFFSETFROM:-0500
TZOFFSETTO:-0400
TZNAME:EDT
DTSTART:20230312T070000
END:DAYLIGHT
BEGIN:STANDARD
TZOFFSETFROM:-0400
TZOFFSETTO:-0500
TZNAME:EST
DTSTART:20231105T060000
END:STANDARD
END:VTIMEZONE
BEGIN:VEVENT
DTSTART;TZID=America/New_York:20230302T180000
DTEND;TZID=America/New_York:20230302T180000
DTSTAMP:20260422T054952
CREATED:20230104T154053Z
LAST-MODIFIED:20230216T162016Z
UID:9803-1677780000-1677780000@nwsota.org
SUMMARY:Board Meeting
DESCRIPTION:LEGAL NOTICE\nPUBLIC NOTICE \n  \nNotice is hereby given that on March 2\, 2023\, a meeting of the Board of Directors of Cascade Career Prep High School and Northwest School of the Arts will be held at 6:00 p.m.  The Board meeting will be held at Cascade Career Prep High School\, located at 1458 Brittain Road\, Akron\, OH 44310.   \nThe purpose of this meeting is to consider various administrative matters and to address any other general business that may properly come before the Board of Directors.
URL:https://nwsota.org/event/board-meeting-21/
LOCATION:Cascade Career Prep High School\, 1458 Brittain Road\, Akron\, OH\, 44310
CATEGORIES:Calendar Only,School Board
END:VEVENT
END:VCALENDAR