BEGIN:VCALENDAR
VERSION:2.0
PRODID:-//Northwest School of the Arts - ECPv5.16.4//NONSGML v1.0//EN
CALSCALE:GREGORIAN
METHOD:PUBLISH
X-WR-CALNAME:Northwest School of the Arts
X-ORIGINAL-URL:https://nwsota.org
X-WR-CALDESC:Events for Northwest School of the Arts
BEGIN:VTIMEZONE
TZID:America/New_York
BEGIN:DAYLIGHT
TZOFFSETFROM:-0500
TZOFFSETTO:-0400
TZNAME:EDT
DTSTART:20210314T070000
END:DAYLIGHT
BEGIN:STANDARD
TZOFFSETFROM:-0400
TZOFFSETTO:-0500
TZNAME:EST
DTSTART:20211107T060000
END:STANDARD
END:VTIMEZONE
BEGIN:VEVENT
DTSTART;TZID=America/New_York:20210902T180000
DTEND;TZID=America/New_York:20210902T180000
DTSTAMP:20260423T054917
CREATED:20210820T153836Z
LAST-MODIFIED:20210820T153836Z
UID:7867-1630605600-1630605600@nwsota.org
SUMMARY:Board Meeting
DESCRIPTION:The purpose of this meeting is to consider various administrative matters and to address any other general business that may properly come before the Board of Directors.
URL:https://nwsota.org/event/board-meeting-19/
LOCATION:Northwest Academy\, 1441 W 116th street\, Cleveland\, OH\, 44102\, United States
CATEGORIES:Calendar Only,School Board
GEO:41.4822414;-81.7670862
X-APPLE-STRUCTURED-LOCATION;VALUE=URI;X-ADDRESS=Northwest Academy 1441 W 116th street Cleveland OH 44102 United States;X-APPLE-RADIUS=500;X-TITLE=1441 W 116th street:geo:-81.7670862,41.4822414
END:VEVENT
END:VCALENDAR